BEGIN:VCALENDAR
VERSION:2.0
PRODID:-//MnTech - ECPv6.15.20//NONSGML v1.0//EN
CALSCALE:GREGORIAN
METHOD:PUBLISH
X-WR-CALNAME:MnTech
X-ORIGINAL-URL:https://mntech.org
X-WR-CALDESC:Events for MnTech
REFRESH-INTERVAL;VALUE=DURATION:PT1H
X-Robots-Tag:noindex
X-PUBLISHED-TTL:PT1H
BEGIN:VTIMEZONE
TZID:America/Chicago
BEGIN:DAYLIGHT
TZOFFSETFROM:-0600
TZOFFSETTO:-0500
TZNAME:CDT
DTSTART:20250309T080000
END:DAYLIGHT
BEGIN:STANDARD
TZOFFSETFROM:-0500
TZOFFSETTO:-0600
TZNAME:CST
DTSTART:20251102T070000
END:STANDARD
BEGIN:DAYLIGHT
TZOFFSETFROM:-0600
TZOFFSETTO:-0500
TZNAME:CDT
DTSTART:20260308T080000
END:DAYLIGHT
BEGIN:STANDARD
TZOFFSETFROM:-0500
TZOFFSETTO:-0600
TZNAME:CST
DTSTART:20261101T070000
END:STANDARD
BEGIN:DAYLIGHT
TZOFFSETFROM:-0600
TZOFFSETTO:-0500
TZNAME:CDT
DTSTART:20270314T080000
END:DAYLIGHT
BEGIN:STANDARD
TZOFFSETFROM:-0500
TZOFFSETTO:-0600
TZNAME:CST
DTSTART:20271107T070000
END:STANDARD
END:VTIMEZONE
BEGIN:VEVENT
DTSTART;TZID=America/Chicago:20260310T083000
DTEND;TZID=America/Chicago:20260310T103000
DTSTAMP:20260421T052113
CREATED:20260213T232839Z
LAST-MODIFIED:20260217T184339Z
UID:10000491-1773131400-1773138600@mntech.org
SUMMARY:Coffee Connect
DESCRIPTION:Join us for Coffee Connect — where professionals meet\, mingle\, and make meaningful connections over a cup of coffee!
URL:https://mntech.org/event/coffee-connect-2603/
LOCATION:Curioso Coffee – Northeast\, 1712 Marshall St NE\, Suite 100\, Minneapolis\, MN\, 55413\, United States
CATEGORIES:Coffee Connect
ATTACH;FMTTYPE=image/png:https://mntech.org/wp-content/uploads/2026/02/MnTech_Coffee_Connect-logo_imagelogo.png
GEO:45.0051486;-93.2719878
X-APPLE-STRUCTURED-LOCATION;VALUE=URI;X-ADDRESS=Curioso Coffee – Northeast 1712 Marshall St NE Suite 100 Minneapolis MN 55413 United States;X-APPLE-RADIUS=500;X-TITLE=1712 Marshall St NE\, Suite 100:geo:-93.2719878,45.0051486
END:VEVENT
END:VCALENDAR