BEGIN:VCALENDAR
VERSION:2.0
PRODID:-//MnTech - ECPv6.15.20//NONSGML v1.0//EN
CALSCALE:GREGORIAN
METHOD:PUBLISH
X-WR-CALNAME:MnTech
X-ORIGINAL-URL:https://mntech.org
X-WR-CALDESC:Events for MnTech
REFRESH-INTERVAL;VALUE=DURATION:PT1H
X-Robots-Tag:noindex
X-PUBLISHED-TTL:PT1H
BEGIN:VTIMEZONE
TZID:America/Chicago
BEGIN:DAYLIGHT
TZOFFSETFROM:-0600
TZOFFSETTO:-0500
TZNAME:CDT
DTSTART:20230312T080000
END:DAYLIGHT
BEGIN:STANDARD
TZOFFSETFROM:-0500
TZOFFSETTO:-0600
TZNAME:CST
DTSTART:20231105T070000
END:STANDARD
BEGIN:DAYLIGHT
TZOFFSETFROM:-0600
TZOFFSETTO:-0500
TZNAME:CDT
DTSTART:20240310T080000
END:DAYLIGHT
BEGIN:STANDARD
TZOFFSETFROM:-0500
TZOFFSETTO:-0600
TZNAME:CST
DTSTART:20241103T070000
END:STANDARD
BEGIN:DAYLIGHT
TZOFFSETFROM:-0600
TZOFFSETTO:-0500
TZNAME:CDT
DTSTART:20250309T080000
END:DAYLIGHT
BEGIN:STANDARD
TZOFFSETFROM:-0500
TZOFFSETTO:-0600
TZNAME:CST
DTSTART:20251102T070000
END:STANDARD
END:VTIMEZONE
BEGIN:VEVENT
DTSTART;TZID=America/Chicago:20241010T160000
DTEND;TZID=America/Chicago:20241010T180000
DTSTAMP:20260420T203500
CREATED:20231130T230150Z
LAST-MODIFIED:20231130T230150Z
UID:10000442-1728576000-1728583200@mntech.org
SUMMARY:Tech on Tap
DESCRIPTION:
URL:https://mntech.org/event/tech-on-tap-october-2024/
CATEGORIES:Tech on Tap
ATTACH;FMTTYPE=image/png:https://mntech.org/wp-content/uploads/2023/11/tech-on-tap-featured-image_2024.png
END:VEVENT
BEGIN:VEVENT
DTSTART;TZID=America/Chicago:20240925T160000
DTEND;TZID=America/Chicago:20240925T180000
DTSTAMP:20260420T203500
CREATED:20240605T144226Z
LAST-MODIFIED:20240918T212727Z
UID:10000463-1727280000-1727287200@mntech.org
SUMMARY:Tekne Finalist Announcement Livestream
DESCRIPTION:
URL:https://mntech.org/event/tekne-finalists-celebration-2024/
CATEGORIES:Tekne
ATTACH;FMTTYPE=image/png:https://mntech.org/wp-content/uploads/2019/08/TekneAwardsLogoTM_RGB-@2x.png
END:VEVENT
BEGIN:VEVENT
DTSTART;TZID=America/Chicago:20240912T160000
DTEND;TZID=America/Chicago:20240912T180000
DTSTAMP:20260420T203500
CREATED:20231130T230023Z
LAST-MODIFIED:20240731T175627Z
UID:10000441-1726156800-1726164000@mntech.org
SUMMARY:Tech on Tap
DESCRIPTION:
URL:https://mntech.org/event/tech-on-tap-september-2024/
LOCATION:Padraigs Brewing\, Broadway Street Northeast\, Minneapolis\, MN\, 55413\, United States
CATEGORIES:Tech on Tap
ATTACH;FMTTYPE=image/png:https://mntech.org/wp-content/uploads/2023/11/tech-on-tap-featured-image_2024.png
GEO:44.9990335;-93.2466724
X-APPLE-STRUCTURED-LOCATION;VALUE=URI;X-ADDRESS=Padraigs Brewing Broadway Street Northeast Minneapolis MN 55413 United States;X-APPLE-RADIUS=500;X-TITLE=Broadway Street Northeast:geo:-93.2466724,44.9990335
END:VEVENT
BEGIN:VEVENT
DTSTART;TZID=America/Chicago:20240821T170000
DTEND;TZID=America/Chicago:20240821T190000
DTSTAMP:20260420T203500
CREATED:20231130T224411Z
LAST-MODIFIED:20240627T201717Z
UID:10000434-1724259600-1724266800@mntech.org
SUMMARY:Tech Careers 1.0
DESCRIPTION:
URL:https://mntech.org/event/tech-careers-1-0-august-2024/
CATEGORIES:Tech Careers 1.0
ATTACH;FMTTYPE=image/png:https://mntech.org/wp-content/uploads/2023/01/Tech-careers_v1.png
END:VEVENT
BEGIN:VEVENT
DTSTART;TZID=America/Chicago:20240813T163000
DTEND;TZID=America/Chicago:20240813T190000
DTSTAMP:20260420T203500
CREATED:20231130T225235Z
LAST-MODIFIED:20240624T205626Z
UID:10000436-1723566600-1723575600@mntech.org
SUMMARY:Women Leading in Technology
DESCRIPTION:
URL:https://mntech.org/event/wlit-august-2024/
CATEGORIES:WLiT
ATTACH;FMTTYPE=image/png:https://mntech.org/wp-content/uploads/2023/11/wlit-featured-image.png
END:VEVENT
BEGIN:VEVENT
DTSTART;TZID=America/Chicago:20240725T160000
DTEND;TZID=America/Chicago:20240725T183000
DTSTAMP:20260420T203500
CREATED:20231213T214904Z
LAST-MODIFIED:20240314T182305Z
UID:10000448-1721923200-1721932200@mntech.org
SUMMARY:Tech Talk
DESCRIPTION:
URL:https://mntech.org/event/tech-talk-july-2024/
CATEGORIES:MnTech Talks,Tech Talk
ATTACH;FMTTYPE=image/png:https://mntech.org/wp-content/uploads/2023/01/Tech-Talk_updated.png
END:VEVENT
BEGIN:VEVENT
DTSTART;TZID=America/Chicago:20240723T163000
DTEND;TZID=America/Chicago:20240723T190000
DTSTAMP:20260420T203500
CREATED:20231130T222514Z
LAST-MODIFIED:20240702T205653Z
UID:10000430-1721752200-1721761200@mntech.org
SUMMARY:Jumpstart
DESCRIPTION:
URL:https://mntech.org/event/jumpstart-july-2024/
CATEGORIES:Jumpstart
ATTACH;FMTTYPE=image/png:https://mntech.org/wp-content/uploads/2023/01/Jumpstart_v1.png
END:VEVENT
BEGIN:VEVENT
DTSTART;TZID=America/Chicago:20240712T100000
DTEND;TZID=America/Chicago:20240712T104500
DTSTAMP:20260420T203500
CREATED:20240619T143118Z
LAST-MODIFIED:20240619T143309Z
UID:10000464-1720778400-1720781100@mntech.org
SUMMARY:Meet MnTech
DESCRIPTION:
URL:https://mntech.org/event/meet-mntech-july-2024/
ATTACH;FMTTYPE=image/png:https://mntech.org/wp-content/uploads/2024/02/mntech-logo-featured-image.png
END:VEVENT
BEGIN:VEVENT
DTSTART;TZID=America/Chicago:20240711T160000
DTEND;TZID=America/Chicago:20240711T180000
DTSTAMP:20260420T203500
CREATED:20231130T225756Z
LAST-MODIFIED:20231130T225756Z
UID:10000439-1720713600-1720720800@mntech.org
SUMMARY:Tech on Tap
DESCRIPTION:
URL:https://mntech.org/event/tech-on-tap-july-2024/
CATEGORIES:Tech on Tap
ATTACH;FMTTYPE=image/png:https://mntech.org/wp-content/uploads/2023/11/tech-on-tap-featured-image_2024.png
END:VEVENT
BEGIN:VEVENT
DTSTART;TZID=America/Chicago:20240626T160000
DTEND;TZID=America/Chicago:20240626T180000
DTSTAMP:20260420T203500
CREATED:20240318T191914Z
LAST-MODIFIED:20240502T192752Z
UID:10000458-1719417600-1719424800@mntech.org
SUMMARY:ACE Leadership Alumni Reunion
DESCRIPTION:
URL:https://mntech.org/event/2024-ace-leadership-alumni-reunion/
ATTACH;FMTTYPE=image/png:https://mntech.org/wp-content/uploads/2024/03/ace-leadership-featured-image.png
END:VEVENT
BEGIN:VEVENT
DTSTART;TZID=America/Chicago:20240614T100000
DTEND;TZID=America/Chicago:20240614T104500
DTSTAMP:20260420T203500
CREATED:20240509T184602Z
LAST-MODIFIED:20240521T184547Z
UID:10000462-1718359200-1718361900@mntech.org
SUMMARY:Meet MnTech
DESCRIPTION:
URL:https://mntech.org/event/meet-mntech-june-2024/
ATTACH;FMTTYPE=image/png:https://mntech.org/wp-content/uploads/2024/02/mntech-logo-featured-image.png
END:VEVENT
BEGIN:VEVENT
DTSTART;TZID=America/Chicago:20240613T160000
DTEND;TZID=America/Chicago:20240613T180000
DTSTAMP:20260420T203500
CREATED:20231130T225638Z
LAST-MODIFIED:20231130T225638Z
UID:10000438-1718294400-1718301600@mntech.org
SUMMARY:Tech on Tap
DESCRIPTION:
URL:https://mntech.org/event/tech-on-tap-june-2024/
CATEGORIES:Tech on Tap
ATTACH;FMTTYPE=image/png:https://mntech.org/wp-content/uploads/2023/11/tech-on-tap-featured-image_2024.png
END:VEVENT
BEGIN:VEVENT
DTSTART;TZID=America/Chicago:20240522T163000
DTEND;TZID=America/Chicago:20240522T193000
DTSTAMP:20260420T203500
CREATED:20231130T215654Z
LAST-MODIFIED:20240126T204638Z
UID:10000426-1716395400-1716406200@mntech.org
SUMMARY:Women Leading in Technology
DESCRIPTION:
URL:https://mntech.org/event/wlit-april-2024/
LOCATION:Metropolitan Ballroom\, 5418 W. Wayzata Blvd\, Golden Valley\, 55416\, United States
CATEGORIES:WLiT
ATTACH;FMTTYPE=image/png:https://mntech.org/wp-content/uploads/2023/11/wlit-featured-image.png
GEO:44.971478;-93.3486982
X-APPLE-STRUCTURED-LOCATION;VALUE=URI;X-ADDRESS=Metropolitan Ballroom 5418 W. Wayzata Blvd Golden Valley 55416 United States;X-APPLE-RADIUS=500;X-TITLE=5418 W. Wayzata Blvd:geo:-93.3486982,44.971478
END:VEVENT
BEGIN:VEVENT
DTSTART;TZID=America/Chicago:20240510T100000
DTEND;TZID=America/Chicago:20240510T104500
DTSTAMP:20260420T203500
CREATED:20240502T190200Z
LAST-MODIFIED:20240502T190200Z
UID:10000461-1715335200-1715337900@mntech.org
SUMMARY:Connect to MnTech
DESCRIPTION:
URL:https://mntech.org/event/connect-to-mntech-may-10-2024/
ATTACH;FMTTYPE=image/png:https://mntech.org/wp-content/uploads/2024/02/mntech-logo-featured-image.png
END:VEVENT
BEGIN:VEVENT
DTSTART;TZID=America/Chicago:20240509T160000
DTEND;TZID=America/Chicago:20240509T180000
DTSTAMP:20260420T203500
CREATED:20231130T221806Z
LAST-MODIFIED:20231130T221853Z
UID:10000429-1715270400-1715277600@mntech.org
SUMMARY:Tech on Tap
DESCRIPTION:
URL:https://mntech.org/event/tech-on-tap-may-2023-2/
CATEGORIES:Tech on Tap
ATTACH;FMTTYPE=image/png:https://mntech.org/wp-content/uploads/2023/11/tech-on-tap-featured-image_2024.png
END:VEVENT
BEGIN:VEVENT
DTSTART;TZID=America/Chicago:20240508T080000
DTEND;TZID=America/Chicago:20240508T170000
DTSTAMP:20260420T203500
CREATED:20231130T221655Z
LAST-MODIFIED:20231130T221655Z
UID:10000428-1715155200-1715187600@mntech.org
SUMMARY:Tech Connect
DESCRIPTION:
URL:https://mntech.org/event/tech-connect-2024/
LOCATION:St. Paul RiverCentre\, 175 W Kellogg Blvd\, St. Paul\, MN\, 55102\, United States
CATEGORIES:Tech Connect
ATTACH;FMTTYPE=image/png:https://mntech.org/wp-content/uploads/2023/11/Tech-Connect_featured-image_2024.png
GEO:44.944335;-93.1005215
X-APPLE-STRUCTURED-LOCATION;VALUE=URI;X-ADDRESS=St. Paul RiverCentre 175 W Kellogg Blvd St. Paul MN 55102 United States;X-APPLE-RADIUS=500;X-TITLE=175 W Kellogg Blvd:geo:-93.1005215,44.944335
END:VEVENT
BEGIN:VEVENT
DTSTART;TZID=America/Chicago:20240426T100000
DTEND;TZID=America/Chicago:20240426T104500
DTSTAMP:20260420T203500
CREATED:20240409T163736Z
LAST-MODIFIED:20240409T164034Z
UID:10000460-1714125600-1714128300@mntech.org
SUMMARY:Connect to MnTech
DESCRIPTION:
URL:https://mntech.org/event/connect-to-mntech-april-26-2024/
ATTACH;FMTTYPE=image/png:https://mntech.org/wp-content/uploads/2024/02/mntech-logo-featured-image.png
END:VEVENT
BEGIN:VEVENT
DTSTART;TZID=America/Chicago:20240418T173000
DTEND;TZID=America/Chicago:20240418T203000
DTSTAMP:20260420T203500
CREATED:20240123T184051Z
LAST-MODIFIED:20240311T150139Z
UID:10000450-1713461400-1713472200@mntech.org
SUMMARY:2024 Aspirations in Computing Award Ceremony
DESCRIPTION:
URL:https://mntech.org/event/2024-aspirations-in-computing-award-ceremony/
LOCATION:Metropolitan Ballroom\, 5418 W. Wayzata Blvd\, Golden Valley\, 55416\, United States
CATEGORIES:Aspirations
ATTACH;FMTTYPE=image/png:https://mntech.org/wp-content/uploads/2024/01/Aspirations-in-Computing-logo.png
GEO:44.971478;-93.3486982
X-APPLE-STRUCTURED-LOCATION;VALUE=URI;X-ADDRESS=Metropolitan Ballroom 5418 W. Wayzata Blvd Golden Valley 55416 United States;X-APPLE-RADIUS=500;X-TITLE=5418 W. Wayzata Blvd:geo:-93.3486982,44.971478
END:VEVENT
BEGIN:VEVENT
DTSTART;TZID=America/Chicago:20240413T083000
DTEND;TZID=America/Chicago:20240413T150000
DTSTAMP:20260420T203500
CREATED:20240314T173036Z
LAST-MODIFIED:20240314T173036Z
UID:10000457-1712997000-1713020400@mntech.org
SUMMARY:2024 MNAiC Rising Star Award Ceremony
DESCRIPTION:
URL:https://mntech.org/event/2024-mnaic-rising-star-award-ceremony/
CATEGORIES:Aspirations
ATTACH;FMTTYPE=image/png:https://mntech.org/wp-content/uploads/2024/02/MN-AiC-featured-Image.png
END:VEVENT
BEGIN:VEVENT
DTSTART;TZID=America/Chicago:20240412T100000
DTEND;TZID=America/Chicago:20240412T104500
DTSTAMP:20260420T203500
CREATED:20240311T152623Z
LAST-MODIFIED:20240311T152623Z
UID:10000456-1712916000-1712918700@mntech.org
SUMMARY:Connect to MnTech
DESCRIPTION:
URL:https://mntech.org/event/connect-to-mntech-april-2024/
ATTACH;FMTTYPE=image/png:https://mntech.org/wp-content/uploads/2024/02/mntech-logo-featured-image.png
END:VEVENT
BEGIN:VEVENT
DTSTART;TZID=America/Chicago:20240411T160000
DTEND;TZID=America/Chicago:20240411T180000
DTSTAMP:20260420T203500
CREATED:20231130T220140Z
LAST-MODIFIED:20231130T221053Z
UID:10000427-1712851200-1712858400@mntech.org
SUMMARY:Tech on Tap
DESCRIPTION:
URL:https://mntech.org/event/tech-on-tap-april-2024/
CATEGORIES:Tech on Tap
ATTACH;FMTTYPE=image/png:https://mntech.org/wp-content/uploads/2023/11/tech-on-tap-featured-image_2024.png
END:VEVENT
BEGIN:VEVENT
DTSTART;TZID=America/Chicago:20240319T163000
DTEND;TZID=America/Chicago:20240319T190000
DTSTAMP:20260420T203500
CREATED:20231129T224640Z
LAST-MODIFIED:20231130T215244Z
UID:10000423-1710865800-1710874800@mntech.org
SUMMARY:Tech Careers 1.0
DESCRIPTION:
URL:https://mntech.org/event/tech-careers-1-0-march-2024/
ATTACH;FMTTYPE=image/png:https://mntech.org/wp-content/uploads/2023/01/Tech-careers_v1.png
END:VEVENT
BEGIN:VEVENT
DTSTART;TZID=America/Chicago:20240314T160000
DTEND;TZID=America/Chicago:20240314T180000
DTSTAMP:20260420T203500
CREATED:20231130T152259Z
LAST-MODIFIED:20231130T221933Z
UID:10000424-1710432000-1710439200@mntech.org
SUMMARY:Tech on Tap
DESCRIPTION:
URL:https://mntech.org/event/tech-on-tap-march-2024/
CATEGORIES:Tech on Tap
ATTACH;FMTTYPE=image/png:https://mntech.org/wp-content/uploads/2023/11/tech-on-tap-featured-image_2024.png
END:VEVENT
BEGIN:VEVENT
DTSTART;TZID=America/Chicago:20240308T100000
DTEND;TZID=America/Chicago:20240308T104500
DTSTAMP:20260420T203500
CREATED:20240214T223318Z
LAST-MODIFIED:20240307T171557Z
UID:10000455-1709892000-1709894700@mntech.org
SUMMARY:Connect to MnTech
DESCRIPTION:
URL:https://mntech.org/event/connect-to-mntech-march-2024/
ATTACH;FMTTYPE=image/png:https://mntech.org/wp-content/uploads/2024/02/mntech-logo-featured-image.png
END:VEVENT
BEGIN:VEVENT
DTSTART;TZID=America/Chicago:20240302T090000
DTEND;TZID=America/Chicago:20240302T110000
DTSTAMP:20260420T203500
CREATED:20240209T204608Z
LAST-MODIFIED:20240216T153419Z
UID:10000454-1709370000-1709377200@mntech.org
SUMMARY:MN Aspirations in Computing Professional Workshop
DESCRIPTION:
URL:https://mntech.org/event/mn-aspirations-in-computing-professional-workshop-2/
CATEGORIES:Aspirations
ATTACH;FMTTYPE=image/png:https://mntech.org/wp-content/uploads/2024/02/MN-AiC-featured-Image.png
END:VEVENT
BEGIN:VEVENT
DTSTART;TZID=America/Chicago:20240227T163000
DTEND;TZID=America/Chicago:20240227T190000
DTSTAMP:20260420T203500
CREATED:20231130T215501Z
LAST-MODIFIED:20240702T205702Z
UID:10000425-1709051400-1709060400@mntech.org
SUMMARY:Jumpstart
DESCRIPTION:
URL:https://mntech.org/event/jumpstart-february-2024/
CATEGORIES:Jumpstart
ATTACH;FMTTYPE=image/png:https://mntech.org/wp-content/uploads/2023/01/Jumpstart_v1.png
END:VEVENT
BEGIN:VEVENT
DTSTART;TZID=America/Chicago:20240224T090000
DTEND;TZID=America/Chicago:20240224T110000
DTSTAMP:20260420T203500
CREATED:20240209T204437Z
LAST-MODIFIED:20240216T153441Z
UID:10000453-1708765200-1708772400@mntech.org
SUMMARY:MN Aspirations in Computing Professional Workshop
DESCRIPTION:
URL:https://mntech.org/event/mn-aspirations-in-computing-professional-workshop-1/
CATEGORIES:Aspirations
ATTACH;FMTTYPE=image/png:https://mntech.org/wp-content/uploads/2024/02/MN-AiC-featured-Image.png
END:VEVENT
BEGIN:VEVENT
DTSTART;TZID=America/Chicago:20240215T153000
DTEND;TZID=America/Chicago:20240215T180000
DTSTAMP:20260420T203500
CREATED:20231212T182617Z
LAST-MODIFIED:20231218T201812Z
UID:10000446-1708011000-1708020000@mntech.org
SUMMARY:Tech Talk
DESCRIPTION:
URL:https://mntech.org/event/tech-talk-february-2024/
ATTACH;FMTTYPE=image/png:https://mntech.org/wp-content/uploads/2023/01/Tech-Talk_updated.png
END:VEVENT
BEGIN:VEVENT
DTSTART;TZID=America/Chicago:20240208T160000
DTEND;TZID=America/Chicago:20240208T180000
DTSTAMP:20260420T203500
CREATED:20231129T224258Z
LAST-MODIFIED:20231130T222002Z
UID:10000422-1707408000-1707415200@mntech.org
SUMMARY:Tech on Tap
DESCRIPTION:
URL:https://mntech.org/event/tech-on-tap-february-2024/
CATEGORIES:Tech on Tap
ATTACH;FMTTYPE=image/png:https://mntech.org/wp-content/uploads/2023/11/tech-on-tap-featured-image_2024.png
END:VEVENT
BEGIN:VEVENT
DTSTART;TZID=America/Chicago:20240206T163000
DTEND;TZID=America/Chicago:20240206T193000
DTSTAMP:20260420T203500
CREATED:20231129T224058Z
LAST-MODIFIED:20240126T204709Z
UID:10000421-1707237000-1707247800@mntech.org
SUMMARY:Women Leading in Technology
DESCRIPTION:
URL:https://mntech.org/event/women-leading-in-technology-february-2024/
LOCATION:Metropolitan Ballroom\, 5418 W. Wayzata Blvd\, Golden Valley\, 55416\, United States
CATEGORIES:WLiT
ATTACH;FMTTYPE=image/png:https://mntech.org/wp-content/uploads/2023/11/wlit-featured-image.png
GEO:44.971478;-93.3486982
X-APPLE-STRUCTURED-LOCATION;VALUE=URI;X-ADDRESS=Metropolitan Ballroom 5418 W. Wayzata Blvd Golden Valley 55416 United States;X-APPLE-RADIUS=500;X-TITLE=5418 W. Wayzata Blvd:geo:-93.3486982,44.971478
END:VEVENT
END:VCALENDAR